BEGIN:VCALENDAR
VERSION:2.0
PRODID:-//The Catskill Mountains Scenic Byway - ECPv6.9.1//NONSGML v1.0//EN
CALSCALE:GREGORIAN
METHOD:PUBLISH
X-WR-CALNAME:The Catskill Mountains Scenic Byway
X-ORIGINAL-URL:https://scenicdev.directivesites.com
X-WR-CALDESC:Events for The Catskill Mountains Scenic Byway
REFRESH-INTERVAL;VALUE=DURATION:PT1H
X-Robots-Tag:noindex
X-PUBLISHED-TTL:PT1H
BEGIN:VTIMEZONE
TZID:America/New_York
BEGIN:DAYLIGHT
TZOFFSETFROM:-0500
TZOFFSETTO:-0400
TZNAME:EDT
DTSTART:20220313T070000
END:DAYLIGHT
BEGIN:STANDARD
TZOFFSETFROM:-0400
TZOFFSETTO:-0500
TZNAME:EST
DTSTART:20221106T060000
END:STANDARD
END:VTIMEZONE
BEGIN:VEVENT
DTSTART;TZID=America/New_York:20220409T080000
DTEND;TZID=America/New_York:20220828T170000
DTSTAMP:20260420T092610
CREATED:20220302T153714Z
LAST-MODIFIED:20220302T153714Z
UID:2344-1649491200-1661706000@scenicdev.directivesites.com
SUMMARY:Music & Dance Camps 2022
DESCRIPTION:Music & Dance Camps 2022 \nOur spring & summer\, limited-capacity\, on-site Music & Dance Camps are already about half full. Please tell your friends and be sure to register soon! Folks of all ages\, interests\, and learning levels are welcome. Campers under 18 must attend with a parent or guardian. Flexible pricing includes camping and meals. Private rooms and bunks are also available on site. Please self-select from our 3-tier registration based on your ability to pay. Thank you for supporting the Ashokan Center and each other!  \nApril 8-10: Old Time Rollick\nApril 29-May 1: Scottish String Fling\nMay 13-15: Autoharps + Dulcimers 2\nMay 27-29: Uke Fest\nJune 26-July 2: Western & Swing Week\nJuly 17-23: Northern Week\nJuly 25-29: Acoustic Guitar Camp\nJuly 31-August 4: Family Camp\nAugust 8-12: Bluegrass Camp\nAugust 14-20: Southern Week\nLearn more about Music & Dance Camps
URL:https://scenicdev.directivesites.com/calendar/music-dance-camps-2022/
CATEGORIES:2022 Music & Camp Weeks
END:VEVENT
BEGIN:VEVENT
DTSTART;TZID=America/New_York:20220529T100000
DTEND;TZID=America/New_York:20220529T100000
DTSTAMP:20260420T092610
CREATED:20220329T191932Z
LAST-MODIFIED:20220329T191932Z
UID:2371-1653818400-1653818400@scenicdev.directivesites.com
SUMMARY:Fleischmanns Street Fair\, Memorial Day Sunday\, May 29
DESCRIPTION:Fleischmanns Street Fair 2022 – Memorial Day Weekend Sunday\, May 29\n10am – 4pm\, Main Street\, Fleischmanns\, NY 12430  \nThe Fleischmanns First organization are sponsors of this fun and successful annual event and will look to fill the Main Street with live music\, art\, antiques\, crafts\, clothing\, jewelry and a whole assortment of other vendors. An extended food court\, a children’s bounce house\, carnival street performers\, antique cars\, and a possible beer tent are also being considered as entertainment for this year’s fair. \nOur advertising budget will include newsprint\, cable TV\, Facebook and other social media. Check out the attached vendor form and send it in. Be part of this community event that welcomes summertime fun to the Central Catskills. The Village of Fleischmanns is one of the Catskill Mountains Scenic Byway communities. \nWe are so proud of our past hosting experience and take pride in our many participants and the relationships we’ve made through the years. We hope that Memorial Day Sunday works for you and that you can commit to joining us. Sign up early\, for your planning and ours. Please let us know by sending along your reservation form and check. For additional information\, contact Yvonne Reuter at (551) 502-3568 or evyg3399@verizon.net
URL:https://scenicdev.directivesites.com/calendar/fleischmanns-street-fair-memorial-day-sunday-may-29/
END:VEVENT
END:VCALENDAR